BEGIN:VCALENDAR
VERSION:2.0
PRODID:-//Kentucky Shakespeare - ECPv5.8.1//NONSGML v1.0//EN
CALSCALE:GREGORIAN
METHOD:PUBLISH
X-WR-CALNAME:Kentucky Shakespeare
X-ORIGINAL-URL:https://kyshakespeare.com
X-WR-CALDESC:Events for Kentucky Shakespeare
BEGIN:VTIMEZONE
TZID:America/New_York
BEGIN:DAYLIGHT
TZOFFSETFROM:-0500
TZOFFSETTO:-0400
TZNAME:EDT
DTSTART:20210314T070000
END:DAYLIGHT
BEGIN:STANDARD
TZOFFSETFROM:-0400
TZOFFSETTO:-0500
TZNAME:EST
DTSTART:20211107T060000
END:STANDARD
END:VTIMEZONE
BEGIN:VEVENT
DTSTART;TZID=America/New_York:20210812T200000
DTEND;TZID=America/New_York:20210812T223000
DTSTAMP:20260423T104014
CREATED:20200714T135102Z
LAST-MODIFIED:20210813T125421Z
UID:5188-1628798400-1628807400@kyshakespeare.com
SUMMARY:Louisville Ballet presents Shakespeare in Dance
DESCRIPTION:6pm Food Trucks: Grecian Mama\, Froggy’s Popcorn \n7pm Kids’ Globe\, Will’s Gift Shop\, and Will’s Tavern \n7:15pm pre-show Genesis Arts + Step-N-Dance \n8pm Performance \n 
URL:https://kyshakespeare.com/event/louisville-ballet-presents-shakespeare-in-dance-8-12-21/
CATEGORIES:Shakespeare Festival in Central Park
END:VEVENT
END:VCALENDAR