BEGIN:VCALENDAR
VERSION:2.0
PRODID:-//Kentucky Shakespeare - ECPv5.8.1//NONSGML v1.0//EN
CALSCALE:GREGORIAN
METHOD:PUBLISH
X-WR-CALNAME:Kentucky Shakespeare
X-ORIGINAL-URL:https://kyshakespeare.com
X-WR-CALDESC:Events for Kentucky Shakespeare
BEGIN:VTIMEZONE
TZID:America/Kentucky/Louisville
BEGIN:DAYLIGHT
TZOFFSETFROM:-0500
TZOFFSETTO:-0400
TZNAME:EDT
DTSTART:20210314T070000
END:DAYLIGHT
BEGIN:STANDARD
TZOFFSETFROM:-0400
TZOFFSETTO:-0500
TZNAME:EST
DTSTART:20211107T060000
END:STANDARD
END:VTIMEZONE
BEGIN:VEVENT
DTSTART;TZID=America/Kentucky/Louisville:20210624T200000
DTEND;TZID=America/Kentucky/Louisville:20210624T223000
DTSTAMP:20260423T082549
CREATED:20200714T124431Z
LAST-MODIFIED:20210623T183114Z
UID:5111-1624564800-1624573800@kyshakespeare.com
SUMMARY:Shakespeare in Love
DESCRIPTION:Adapted for the stage from the Oscar-winning screenplay \nDirected by Matt Wallace \n6pm Food Trucks: Celtic Pig\, Ehrler’s \n7pm Kids’ Globe\, Will’s Gift Shop\, Will’s Tavern \n8pm Performance* \n*An American Sign Language Interpreted performance \n 
URL:https://kyshakespeare.com/event/shakespeare-in-love-6-24-21/
LOCATION:C. Douglas Ramey Amphitheater\, Central Park\, 1340 South Fourth Street\, Louisville\, KY\, 40208\, United States
CATEGORIES:Shakespeare Festival in Central Park
GEO:38.22918;-85.763118
X-APPLE-STRUCTURED-LOCATION;VALUE=URI;X-ADDRESS=C. Douglas Ramey Amphitheater Central Park 1340 South Fourth Street Louisville KY 40208 United States;X-APPLE-RADIUS=500;X-TITLE=1340 South Fourth Street:geo:-85.763118,38.22918
END:VEVENT
END:VCALENDAR