BEGIN:VCALENDAR
VERSION:2.0
PRODID:-//Kentucky Shakespeare - ECPv5.8.1//NONSGML v1.0//EN
CALSCALE:GREGORIAN
METHOD:PUBLISH
X-WR-CALNAME:Kentucky Shakespeare
X-ORIGINAL-URL:https://kyshakespeare.com
X-WR-CALDESC:Events for Kentucky Shakespeare
BEGIN:VTIMEZONE
TZID:America/Kentucky/Louisville
BEGIN:DAYLIGHT
TZOFFSETFROM:-0500
TZOFFSETTO:-0400
TZNAME:EDT
DTSTART:20230312T070000
END:DAYLIGHT
BEGIN:STANDARD
TZOFFSETFROM:-0400
TZOFFSETTO:-0500
TZNAME:EST
DTSTART:20231105T060000
END:STANDARD
END:VTIMEZONE
BEGIN:VEVENT
DTSTART;TZID=America/Kentucky/Louisville:20230516T183000
DTEND;TZID=America/Kentucky/Louisville:20230516T200000
DTSTAMP:20260421T055328
CREATED:20230327T202721Z
LAST-MODIFIED:20230327T202721Z
UID:9929-1684261800-1684267200@kyshakespeare.com
SUMMARY:Shakespeare in the Parks: HAMLET in Clarksville\, IN at Ashland Park
DESCRIPTION:Backup rain space: TBA\nSponsored by the Community Foundation of Southern Indiana
URL:https://kyshakespeare.com/event/shakespeare-in-the-parks-hamlet-in-mount-sterling-at-main-street-park-2-2-2-2-2-2-2-2-2-2-2-2-2-2-2-2-2-2-3-2-2-2-2-3-2-2/
LOCATION:Ashland Park\, 430 E Riverside Dr\, Clarksville\, IN\, 47129\, United States
CATEGORIES:Shakespeare in the Parks Tour
END:VEVENT
END:VCALENDAR