BEGIN:VCALENDAR
VERSION:2.0
PRODID:-//Kentucky Shakespeare - ECPv5.8.1//NONSGML v1.0//EN
CALSCALE:GREGORIAN
METHOD:PUBLISH
X-WR-CALNAME:Kentucky Shakespeare
X-ORIGINAL-URL:https://kyshakespeare.com
X-WR-CALDESC:Events for Kentucky Shakespeare
BEGIN:VTIMEZONE
TZID:America/New_York
BEGIN:DAYLIGHT
TZOFFSETFROM:-0500
TZOFFSETTO:-0400
TZNAME:EDT
DTSTART:20190310T070000
END:DAYLIGHT
BEGIN:STANDARD
TZOFFSETFROM:-0400
TZOFFSETTO:-0500
TZNAME:EST
DTSTART:20191103T060000
END:STANDARD
END:VTIMEZONE
BEGIN:VEVENT
DTSTART;TZID=America/New_York:20190525T140000
DTEND;TZID=America/New_York:20190525T153000
DTSTAMP:20260421T040654
CREATED:20181112T023547Z
LAST-MODIFIED:20190307T194740Z
UID:1780-1558792800-1558798200@kyshakespeare.com
SUMMARY:Shakespeare in the Parks Tour
DESCRIPTION:  \nShawnee Park\nRain Space: Shawnee Community Center\nSponsored by Councilwoman Donna Purvis\, District 5 \n  \n  \n 
URL:https://kyshakespeare.com/event/shakespeare-in-the-parks-tour-shawnee/
LOCATION:Shawnee Park\, 4501 W Broadway\, Louisville\, KY\, 40211\, United States
CATEGORIES:Shakespeare in the Parks Tour
END:VEVENT
END:VCALENDAR